BEGIN:VCALENDAR
VERSION:2.0
PRODID:-//Library Market//iCal Export//EN
BEGIN:VEVENT
SUMMARY:CareerLink Representative
UID:173870
DTSTAMP:20260422T005300Z
DTSTART:20260511T140000Z
DTEND:20260511T210000Z
LOCATION:24 South 6th Street, Columbia, PA 17512, United States
ROOM: COL Meeting Room
DESCRIPTION:A CareerLink representative is available every other Monday to
  assist with job applications, resumes, and more! No appointment necessary
 !
URL:https://calendar.lancasterlibraries.org/event/careerlink-representativ
 e-173870
END:VEVENT
END:VCALENDAR
