BEGIN:VCALENDAR
VERSION:2.0
PRODID:-//Library Market//iCal Export//EN
BEGIN:VEVENT
SUMMARY:Jigsaw Puzzle Night
UID:173879
DTSTAMP:20260422T092600Z
DTSTART:20260520T213000Z
DTEND:20260520T233000Z
LOCATION:24 South 6th Street, Columbia, PA 17512, United States
ROOM: COL Community Room
DESCRIPTION:Bring your favorite jigsaw puzzle or borrow one from our Puzzl
 e Swap and enjoy an evening of conversations and jigsaw puzzles!All are we
 lcome to attend. 
URL:https://calendar.lancasterlibraries.org/event/jigsaw-puzzle-night-1738
 79
END:VEVENT
END:VCALENDAR
