BEGIN:VCALENDAR
VERSION:2.0
PRODID:-//Library Market//iCal Export//EN
BEGIN:VEVENT
SUMMARY:Adult Board Game Night
UID:173881
DTSTAMP:20260422T124400Z
DTSTART:20260505T213000Z
DTEND:20260505T233000Z
LOCATION:24 South 6th Street, Columbia, PA 17512, United States
ROOM: COL Community Room
DESCRIPTION:Do you enjoy board games? Looking for someone to play a game w
 ith? Bring your favorite board game or enjoy one of ours for an evening of
  friendly competition.All are welcome to attend. 
URL:https://calendar.lancasterlibraries.org/event/adult-board-game-night-1
 73881
END:VEVENT
END:VCALENDAR
