BEGIN:VCALENDAR
VERSION:2.0
PRODID:-//Library Market//iCal Export//EN
BEGIN:VEVENT
SUMMARY:MTPL Reader Theater: The Importance of Being Earnest
UID:173897
DTSTAMP:20260422T092600Z
DTSTART:20260718T173000Z
DTEND:20260718T200000Z
LOCATION:595 Granite Run Drive, Lancaster, PA 17601, United States
ROOM: MTP Patio
DESCRIPTION:Ever wanted to tread the boards without the stage fright? Join
  us on the MTPL patio for a casual, community-led reading of Oscar Wilde&#
 039;s funniest comedy. No lines to memorize and no experience required-- j
 ust grab a script, pick a character, and help us bring this &quot;trivial 
 comedy for serious people&quot; to life. Not a performer? Enjoy the show a
 s a listener!Scripts &amp; Snacks providedIn case of rain, we will move th
 e &#039;stage&#039; to Morgan Center B
URL:https://calendar.lancasterlibraries.org/event/reserved-program-173897
END:VEVENT
END:VCALENDAR
