BEGIN:VCALENDAR
VERSION:2.0
PRODID:-//Library Market//iCal Export//EN
BEGIN:VEVENT
SUMMARY:Bread: Sourdough Starter
UID:173898
DTSTAMP:20260422T124400Z
DTSTART:20260507T220000Z
DTEND:20260507T231500Z
LOCATION:24 South 6th Street, Columbia, PA 17512, United States
ROOM: COL Community Room
DESCRIPTION:Participants will learn about mixing, stretch and folds, feedi
 ng and shaping. Each participant will leave with an active sourdough start
 er and a loaf to take home and bake.Cost is $20 per participant to cover s
 upplies.Class is limited to 15 participants. Sorry, no pairs for this clas
 s.Registration is required and a waiver must be signed.Payment via cash, C
 ashApp, or Venmo is available the evening of the event. Participants must 
 pay prior to receiving their supplies. 
URL:https://calendar.lancasterlibraries.org/event/bread-sourdough-starter-
 173898
END:VEVENT
END:VCALENDAR
