BEGIN:VCALENDAR
VERSION:2.0
PRODID:-//Library Market//iCal Export//EN
BEGIN:VEVENT
SUMMARY:Bread: Pizza Class
UID:173900
DTSTAMP:20260422T092600Z
DTSTART:20260519T220000Z
DTEND:20260519T231500Z
LOCATION:24 South 6th Street, Columbia, PA 17512, United States
ROOM: COL Community Room
DESCRIPTION:Learn how to make a homemade pizza crust and add your toppings
  for the perfect lunch or dinner! Participants will take home a pizza in a
  disposable pizza pan ready for baking. Tomato sauce, cheese, and peppero
 ni will be available. Participants are welcome to bring their own sauce an
 d additional toppings. Cost is $20.00 per person to cover supplies. If yo
 u&#039;d like to make two pizzas, the cost is $25.00 for two pizzas. Paym
 ent via CashApp, Cash, or Venmo is accepted the day of the event. Particip
 ants must pay prior to receiving their supplies. Limit 15 participants. R
 egistration required. Pairs of two are welcome for this class. Please note
  in your registration if you are a pair of two. Registration closes at 1:
 00pm on Tuesday, May 19. 
URL:https://calendar.lancasterlibraries.org/event/bread-pizza-class-173900
END:VEVENT
END:VCALENDAR
