BEGIN:VCALENDAR
VERSION:2.0
PRODID:-//Library Market//iCal Export//EN
BEGIN:VEVENT
SUMMARY:Leola Pool - 23 E Main St, Leola, PA 17540
UID:173927
DTSTAMP:20260422T041200Z
DTSTART:20260525T200000Z
DTEND:20260525T213000Z
LOCATION:United States
ROOM: Leola Pool - 23 E Main St, Leola, PA 17540
DESCRIPTION:This stop is open to the public, located by the pavillion near
  the Leola PoolAt this stop, patrons can register for a library card, chec
 k out or return materials, and request holds for future stops.The material
 s at this stop are checked out for a full month (until the next BKM visit)
  and can be returned at any library within the system of Lancaster County.
URL:https://calendar.lancasterlibraries.org/event/leola-pool-23-e-main-st-
 leola-pa-17540-173927
END:VEVENT
END:VCALENDAR
