BEGIN:VCALENDAR
VERSION:2.0
PRODID:-//Library Market//iCal Export//EN
BEGIN:VEVENT
SUMMARY:Leola Pool - 23 E Main St, Leola, PA 17540
UID:173931
DTSTAMP:20260422T050100Z
DTSTART:20260824T200000Z
DTEND:20260824T213000Z
LOCATION:United States
ROOM: Leola Pool - 23 E Main St, Leola, PA 17540
DESCRIPTION:August 24 will be the LAST STOP for the Bookmobile at the Leol
 a Pool. Come find us parked at the Greenfield Isaacs&#039; on the 2nd Tues
 day of each month from 4-5:30pm! This stop is open to the public, located
  by the pavilion near the Leola PoolAt this stop, patrons can register for
  a library card, check out or return materials, and request holds for futu
 re stops.The materials at this stop are checked out for a full month (unti
 l the next BKM visit) and can be returned at any library within the system
  of Lancaster County.
URL:https://calendar.lancasterlibraries.org/event/leola-pool-23-e-main-st-
 leola-pa-17540-173931
END:VEVENT
END:VCALENDAR
