BEGIN:VCALENDAR
VERSION:2.0
PRODID:-//Library Market//iCal Export//EN
BEGIN:VEVENT
SUMMARY:WOLVES at Speedwell Forge - Facts Vs. Fiction!
UID:173936
DTSTAMP:20260422T091300Z
DTSTART:20260511T220000Z
DTEND:20260511T230000Z
LOCATION:547 N Penryn Rd, Manheim, PA 17545, United States
ROOM: MAN Kreider Cultural Center
DESCRIPTION:Chuck Rineer and Denny Bunkley discuss their book and experien
 ces working with Wolves!Come join in on this discussion about these fascin
 ating creatures!Monday, May 11th at 6pm-7pmBooks will be available to purc
 hase!
URL:https://calendar.lancasterlibraries.org/event/wolves-speedwell-forge-f
 acts-vs-fiction-173936
END:VEVENT
END:VCALENDAR
