BEGIN:VCALENDAR
VERSION:2.0
PRODID:-//Library Market//iCal Export//EN
BEGIN:VEVENT
SUMMARY:STEM Simple Machines
UID:173937
DTSTAMP:20260422T041200Z
DTSTART:20260620T180000Z
DTEND:20260620T184500Z
LOCATION:595 Granite Run Drive, Lancaster, PA 17601, United States
ROOM: MTP Morgan Center A
DESCRIPTION:Come have some fun exploring some simple machines and how they
  work - we&#039;ll use Mo Willem&#039;s Pigeon as our inspiration.  Remem
 ber how that Pigeon wanted to drive the bus? We&#039;ll give finally give 
 him the chance he&#039;s waited for!  🚌Vroom! Vroom! 😄This program 
 is for kids ages 6 - 9 years old. *Registration will open at 9:00AM on We
 dnesday, June 3rd for Manheim Township and East Lampeter residents and on
  Wednesday, June 10th for residents of other municipalities.Library Progra
 m Policies No Show – Patrons failing to cancel their registration for
  more than 2 library programs in a month will be restricted from registeri
 ng for future programs for a period of one month’s time. Please cancel y
 our registrations at least 2 hours prior to the start of the program to al
 low those on the waiting list to be notified of their change in registrati
 on status. Late Arrivals – Please arrive 10 minutes prior to the 
 start of the program to allow for parking and other circumstances. The pro
 gram will begin promptly at the designated time. At this time, your spot w
 ill be forfeited to those on the wait list who will be granted entry. If s
 pots remain, registrants may be allowed into the program. However, registr
 ants will not be permitted to enter the program 5 minutes past the sta
 rt time. Drop Off Program – This program is intended for children ove
 r the age of 6 years who can participate independently. Adult(s) must be p
 resent to check in child with youth services staff prior to program. Adult
 s will not be allowed in the event space.  *For children ages 6–7, 
 this is a drop-off program; however, a parent or caregiver must remain n
 earby and wait outside the program room for the duration of the program.
  
URL:https://calendar.lancasterlibraries.org/event/stem-simple-machines-173
 937
END:VEVENT
END:VCALENDAR
