BEGIN:VCALENDAR
VERSION:2.0
PRODID:-//Library Market//iCal Export//EN
BEGIN:VEVENT
SUMMARY:STEM Colors and Chemistry
UID:173942
DTSTAMP:20260422T092600Z
DTSTART:20260718T180000Z
DTEND:20260718T184500Z
LOCATION:595 Granite Run Drive, Lancaster, PA 17601, United States
ROOM: MTP Morgan Center A
DESCRIPTION:Did you know you can make some amazing colorful designs by usi
 ng some common foods, common household items, and a little imagination? ðŸ
 ¤” It&#039;s chemistry done in a bright and imaginative way. Â ðŸŽ†ðŸŽ‡Thi
 s program is for kids ages 6 - 9 years old.Â *Registration will open at 9:
 00AM on Wednesday, July 1stÂ for Manheim Township and East Lampeter reside
 nts and on Wednesday, July 8th for residents of other municipalities.Libra
 ry Program PoliciesÂ No Show â€“â€¯Patrons failing to cancel their registr
 ation for more than 2 library programs in a month will be restricted from 
 registering for future programs for a period of one monthâ€™s time. Please
  cancel your registrations at least 2 hours prior to the start of the prog
 ram to allow those on the waiting list to be notified of their change in r
 egistration status.Â Late Arrivals â€“â€¯Please arrive 10 minutesâ€¯priorâ
 €¯to the start of the program to allow for parking and other circumstances
 . The program will begin promptly at the designated time. At this time, yo
 ur spot will be forfeited to those on the wait list who will be granted en
 try. If spots remain, registrants may be allowed into the program. However
 , registrants willâ€¯notâ€¯be permitted to enter the program 5 minutes pas
 t the start time.Â Accompanying Adults â€“â€¯This program is for adults an
 d children to enjoy together. Please plan to attend and be engaged with yo
 ur child. Drop offs will not be permitted.Â Drop Off Program â€“â€¯This pr
 ogram is intended for children over the age of 6 years who can participate
  independently. Adult(s) must be present to check in child with youth serv
 ices staff prior to program. Adults will not be allowed in the event space
 .â€¯Â *For children agesâ€¯6â€“7, this is a drop-off program; however, a p
 arent or caregiverâ€¯must remain nearby and wait outside the program roomâ
 €¯for the duration of the program.Â Â 
URL:https://calendar.lancasterlibraries.org/event/stem-colors-and-chemistr
 y-173942
END:VEVENT
END:VCALENDAR
